BEGIN:VCALENDAR
VERSION:2.0
PRODID:-//jEvents 2.0 for Joomla//EN
CALSCALE:GREGORIAN
METHOD:PUBLISH
BEGIN:VTIMEZONE
TZID:Europe/Berlin
END:VTIMEZONE
BEGIN:VEVENT
UID:69b0f5367cc09016367934c0
CATEGORIES:Einsatzmannschaft
CREATED:20260419T191320
SUMMARY:Heißausbildung
LOCATION:BF Nürnberg Wache 4
DESCRIPTION;ENCODING=QUOTED-PRINTABLE:Thema: Heißausbildung\nInhalt: Treffen 13:30 Uhr
DTSTAMP:20260419T230237Z
DTSTART;TZID=Europe/Berlin:20260410T160000
DTEND;TZID=Europe/Berlin:20260410T200000
SEQUENCE:0
TRANSP:OPAQUE
END:VEVENT
END:VCALENDAR