BEGIN:VCALENDAR
VERSION:2.0
PRODID:-//jEvents 2.0 for Joomla//EN
CALSCALE:GREGORIAN
METHOD:PUBLISH
BEGIN:VTIMEZONE
TZID:Europe/Berlin
END:VTIMEZONE
BEGIN:VEVENT
UID:69802c20bd2ba770da398d0c
CATEGORIES:Einsatzmannschaft
CREATED:20260419T191318
SUMMARY:Johannisfeuer
DESCRIPTION;ENCODING=QUOTED-PRINTABLE:
DTSTAMP:20260425T171426Z
DTSTART;TZID=Europe/Berlin;VALUE=DATE:20260620
DTEND;TZID=Europe/Berlin;VALUE=DATE:20260621
SEQUENCE:0
TRANSP:OPAQUE
END:VEVENT
END:VCALENDAR