BEGIN:VCALENDAR
VERSION:2.0
PRODID:-//jEvents 2.0 for Joomla//EN
CALSCALE:GREGORIAN
METHOD:PUBLISH
BEGIN:VTIMEZONE
TZID:Europe/Berlin
END:VTIMEZONE
BEGIN:VEVENT
UID:69802c27ea128830c66c05da
CATEGORIES:Einsatzmannschaft
CREATED:20260419T191318
SUMMARY:Johannisfeuer - Aufbau
DESCRIPTION;ENCODING=QUOTED-PRINTABLE:
DTSTAMP:20260425T123717Z
DTSTART;TZID=Europe/Berlin:20260619T140000
DTEND;TZID=Europe/Berlin:20260619T200000
SEQUENCE:0
TRANSP:OPAQUE
END:VEVENT
END:VCALENDAR