BEGIN:VCALENDAR
VERSION:2.0
PRODID:-//jEvents 2.0 for Joomla//EN
CALSCALE:GREGORIAN
METHOD:PUBLISH
BEGIN:VTIMEZONE
TZID:Europe/Berlin
END:VTIMEZONE
BEGIN:VEVENT
UID:692be695bd2ba770da362255
CATEGORIES:FHaus belegt
CREATED:20251219T114639
SUMMARY:Gruppenführersitzung
LOCATION:Gerätehaus Michelaui.OFr.
DESCRIPTION;ENCODING=QUOTED-PRINTABLE:<br/>Verantwortlich: Förtsch Holger
DTSTAMP:20260422T020835Z
DTSTART;TZID=Europe/Berlin:20260902T190000
DTEND;TZID=Europe/Berlin:20260902T210000
SEQUENCE:0
TRANSP:OPAQUE
END:VEVENT
END:VCALENDAR