BEGIN:VCALENDAR
VERSION:2.0
PRODID:-//jEvents 2.0 for Joomla//EN
CALSCALE:GREGORIAN
METHOD:PUBLISH
BEGIN:VTIMEZONE
TZID:Europe/Berlin
END:VTIMEZONE
BEGIN:VEVENT
UID:6911a817c772107198e5c8e2
CATEGORIES:FHaus belegt
CREATED:20251219T114639
SUMMARY:Gruppenführersitzung
LOCATION:Gerätehaus Michelaui.OFr.
DESCRIPTION;ENCODING=QUOTED-PRINTABLE:\nVerantwortlich: Förtsch Holger
DTSTAMP:20260424T105300Z
DTSTART;TZID=Europe/Berlin:20260708T190000
DTEND;TZID=Europe/Berlin:20260708T210000
SEQUENCE:0
TRANSP:OPAQUE
END:VEVENT
END:VCALENDAR