BEGIN:VCALENDAR
VERSION:2.0
PRODID:-//jEvents 2.0 for Joomla//EN
CALSCALE:GREGORIAN
METHOD:PUBLISH
BEGIN:VTIMEZONE
TZID:Europe/Berlin
END:VTIMEZONE
BEGIN:VEVENT
UID:6910e8fc0f2b2a58c30f9bf8
CATEGORIES:FHaus belegt
CREATED:20251219T114604
SUMMARY:MTA
DESCRIPTION;ENCODING=QUOTED-PRINTABLE:Thema: MTA\n
DTSTAMP:20260422T034805Z
DTSTART;TZID=Europe/Berlin;VALUE=DATE:20260915
DTEND;TZID=Europe/Berlin;VALUE=DATE:20261025
SEQUENCE:0
TRANSP:OPAQUE
END:VEVENT
END:VCALENDAR