BEGIN:VCALENDAR
VERSION:2.0
PRODID:-//jEvents 2.0 for Joomla//EN
CALSCALE:GREGORIAN
METHOD:PUBLISH
BEGIN:VTIMEZONE
TZID:Europe/Berlin
END:VTIMEZONE
BEGIN:VEVENT
UID:691089276f59351c7440d76d
CATEGORIES:FHaus belegt
CREATED:20251219T114604
SUMMARY:MTA Lehrgang
LOCATION:Gerätehaus Michelau 
DESCRIPTION;ENCODING=QUOTED-PRINTABLE:Thema: MTA\n
DTSTAMP:20260422T015937Z
DTSTART;TZID=Europe/Berlin;VALUE=DATE:20260915
DTEND;TZID=Europe/Berlin;VALUE=DATE:20261025
SEQUENCE:0
TRANSP:OPAQUE
END:VEVENT
END:VCALENDAR