BEGIN:VCALENDAR
VERSION:2.0
PRODID:-//jEvents 2.0 for Joomla//EN
CALSCALE:GREGORIAN
METHOD:PUBLISH
BEGIN:VTIMEZONE
TZID:Europe/Berlin
END:VTIMEZONE
BEGIN:VEVENT
UID:68b87fe8ef9fac0455c1e945
CATEGORIES:FHaus belegt
CREATED:20251219T114604
SUMMARY:Sitzung Kifeu LKR
DESCRIPTION;ENCODING=QUOTED-PRINTABLE:
DTSTAMP:20260422T020055Z
DTSTART;TZID=Europe/Berlin;VALUE=DATE:20260512
DTEND;TZID=Europe/Berlin;VALUE=DATE:20260513
SEQUENCE:0
TRANSP:OPAQUE
END:VEVENT
END:VCALENDAR