BEGIN:VCALENDAR
VERSION:2.0
PRODID:-//jEvents 2.0 for Joomla//EN
CALSCALE:GREGORIAN
METHOD:PUBLISH
BEGIN:VTIMEZONE
TZID:Europe/Berlin
BEGIN:STANDARD
DTSTART:20241126T190000
RDATE:20250330T030000
TZOFFSETFROM:+0200
TZOFFSETTO:+0100
TZNAME:Europe/Berlin CET
END:STANDARD
END:VTIMEZONE
BEGIN:VEVENT
UID:69104ae00f2b2a58c30f8c16
CATEGORIES:FHaus belegt
CREATED:20251219T114604
SUMMARY:LKR-Sitzung
DESCRIPTION;ENCODING=QUOTED-PRINTABLE:
DTSTAMP:20260420T121717Z
DTSTART;TZID=Europe/Berlin:20251127T190000
DTEND;TZID=Europe/Berlin:20251127T210000
SEQUENCE:0
TRANSP:OPAQUE
END:VEVENT
END:VCALENDAR