BEGIN:VCALENDAR
VERSION:2.0
PRODID:-//jEvents 2.0 for Joomla//EN
CALSCALE:GREGORIAN
METHOD:PUBLISH
BEGIN:VTIMEZONE
TZID:Europe/Berlin
END:VTIMEZONE
BEGIN:VEVENT
UID:692f1519cdb59258d221eed9
CATEGORIES:Einsatzmannschaft
CREATED:20251219T114556
SUMMARY:Streckendurchgang
LOCATION:Burgkunstadt 
DESCRIPTION;ENCODING=QUOTED-PRINTABLE:Inhalt: Treffpunkt: 18:15 Uhr am Feuerwehrhaus\nVerantwortlich: Sebastian S
 tettner
DTSTAMP:20260424T215842Z
DTSTART;TZID=Europe/Berlin:20261020T190000
DTEND;TZID=Europe/Berlin:20261020T210000
SEQUENCE:0
TRANSP:OPAQUE
END:VEVENT
END:VCALENDAR