BEGIN:VCALENDAR
VERSION:2.0
PRODID:-//jEvents 2.0 for Joomla//EN
CALSCALE:GREGORIAN
METHOD:PUBLISH
BEGIN:VTIMEZONE
TZID:Europe/Berlin
END:VTIMEZONE
BEGIN:VEVENT
UID:6911a6ce342d9362bf2a6690
CATEGORIES:Einsatzmannschaft
CREATED:20251219T114556
SUMMARY:Atemschutzübung
LOCATION:Gerätehaus Michelau i.OFr.
DESCRIPTION;ENCODING=QUOTED-PRINTABLE:\nVerantwortlich: Stettner Sebastian
DTSTAMP:20260422T053007Z
DTSTART;TZID=Europe/Berlin:20260930T190000
DTEND;TZID=Europe/Berlin:20260930T210000
SEQUENCE:0
TRANSP:OPAQUE
END:VEVENT
END:VCALENDAR