BEGIN:VCALENDAR
VERSION:2.0
PRODID:-//jEvents 2.0 for Joomla//EN
CALSCALE:GREGORIAN
METHOD:PUBLISH
BEGIN:VTIMEZONE
TZID:Europe/Berlin
END:VTIMEZONE
BEGIN:VEVENT
UID:6911a5838098037a715f4816
CATEGORIES:Einsatzmannschaft
CREATED:20251219T114556
SUMMARY:Atemschutzübung
LOCATION:Gerätehaus Michelau i.OFr.
DESCRIPTION;ENCODING=QUOTED-PRINTABLE:\nVerantwortlich: Stettner Sebastian
DTSTAMP:20260419T172458Z
DTSTART;TZID=Europe/Berlin:20260429T190000
DTEND;TZID=Europe/Berlin:20260429T210000
SEQUENCE:0
TRANSP:OPAQUE
END:VEVENT
END:VCALENDAR