BEGIN:VCALENDAR
VERSION:2.0
PRODID:-//jEvents 2.0 for Joomla//EN
CALSCALE:GREGORIAN
METHOD:PUBLISH
BEGIN:VTIMEZONE
TZID:Europe/Berlin
END:VTIMEZONE
BEGIN:VEVENT
UID:692c47b4ea128830c6688015
CATEGORIES:Einsatzmannschaft
CREATED:20251219T114552
SUMMARY:Feuerwehrfest Mannsgereuth
DESCRIPTION;ENCODING=QUOTED-PRINTABLE:
DTSTAMP:20260425T171432Z
DTSTART;TZID=Europe/Berlin:20260628T120000
DTEND;TZID=Europe/Berlin:20260628T160000
SEQUENCE:0
TRANSP:OPAQUE
END:VEVENT
END:VCALENDAR