BEGIN:VCALENDAR
VERSION:2.0
PRODID:-//jEvents 2.0 for Joomla//EN
CALSCALE:GREGORIAN
METHOD:PUBLISH
BEGIN:VTIMEZONE
TZID:Europe/Berlin
END:VTIMEZONE
BEGIN:VEVENT
UID:6911a5b0ef9fac0455cb7537
CATEGORIES:Einsatzmannschaft
CREATED:20251219T114552
SUMMARY:Übung Löschzug
LOCATION:Gerätehaus Michelau i.OFr.
DESCRIPTION;ENCODING=QUOTED-PRINTABLE:
DTSTAMP:20260424T102930Z
DTSTART;TZID=Europe/Berlin:20260516T130000
DTEND;TZID=Europe/Berlin:20260516T160000
SEQUENCE:0
TRANSP:OPAQUE
END:VEVENT
END:VCALENDAR