BEGIN:VCALENDAR
VERSION:2.0
PRODID:-//jEvents 2.0 for Joomla//EN
CALSCALE:GREGORIAN
METHOD:PUBLISH
BEGIN:VTIMEZONE
TZID:Europe/Berlin
END:VTIMEZONE
BEGIN:VEVENT
UID:6911a5a2e352ef73f72a4dfb
CATEGORIES:Einsatzmannschaft
CREATED:20251219T114552
SUMMARY:Übung Löschzug
LOCATION:Gerätehaus Michelau i.OFr.
DESCRIPTION;ENCODING=QUOTED-PRINTABLE:
DTSTAMP:20260422T072418Z
DTSTART;TZID=Europe/Berlin:20260505T190000
DTEND;TZID=Europe/Berlin:20260505T210000
SEQUENCE:0
TRANSP:OPAQUE
END:VEVENT
END:VCALENDAR