BEGIN:VCALENDAR
VERSION:2.0
PRODID:-//jEvents 2.0 for Joomla//EN
CALSCALE:GREGORIAN
METHOD:PUBLISH
BEGIN:VTIMEZONE
TZID:Europe/Berlin
END:VTIMEZONE
BEGIN:VEVENT
UID:68c692a5e352ef73f7221b77
CATEGORIES:Einsatzmannschaft
CREATED:20251219T114552
SUMMARY:Florianstag
LOCATION:Michelau i.OFr.
DESCRIPTION;ENCODING=QUOTED-PRINTABLE:Thema: Florianstag <br/>
DTSTAMP:20260425T154924Z
DTSTART;TZID=Europe/Berlin;VALUE=DATE:20260502
DTEND;TZID=Europe/Berlin;VALUE=DATE:20260503
SEQUENCE:0
TRANSP:OPAQUE
END:VEVENT
END:VCALENDAR