BEGIN:VCALENDAR
VERSION:2.0
PRODID:-//jEvents 2.0 for Joomla//EN
CALSCALE:GREGORIAN
METHOD:PUBLISH
BEGIN:VTIMEZONE
TZID:Europe/Berlin
END:VTIMEZONE
BEGIN:VEVENT
UID:692bee9fa9961f48c35f9a38
CATEGORIES:Einsatzmannschaft
CREATED:20251219T114552
SUMMARY:Übung Löschzug
LOCATION:Gerätehaus Michelau i.OFr.
DESCRIPTION;ENCODING=QUOTED-PRINTABLE:Thema: Türöffnung \n\nVerantwortlich: Bragg
DTSTAMP:20260421T195407Z
DTSTART;TZID=Europe/Berlin:20260425T130000
DTEND;TZID=Europe/Berlin:20260425T160000
SEQUENCE:0
TRANSP:OPAQUE
END:VEVENT
END:VCALENDAR