BEGIN:VCALENDAR
VERSION:2.0
PRODID:-//jEvents 2.0 for Joomla//EN
CALSCALE:GREGORIAN
METHOD:PUBLISH
BEGIN:VTIMEZONE
TZID:Europe/Berlin
END:VTIMEZONE
BEGIN:VEVENT
UID:692be8aca9961f48c35f99e5
CATEGORIES:Einsatzmannschaft
CREATED:20251219T114548
SUMMARY:Übung-Absturzsicherung
LOCATION:Gerätehaus Michelau i.OFr.
DESCRIPTION;ENCODING=QUOTED-PRINTABLE:\nVerantwortlich: Bayer Christopher
DTSTAMP:20260424T230650Z
DTSTART;TZID=Europe/Berlin:20261023T183000
DTEND;TZID=Europe/Berlin:20261023T210000
SEQUENCE:0
TRANSP:OPAQUE
END:VEVENT
END:VCALENDAR