BEGIN:VCALENDAR
VERSION:2.0
PRODID:-//jEvents 2.0 for Joomla//EN
CALSCALE:GREGORIAN
METHOD:PUBLISH
BEGIN:VTIMEZONE
TZID:Europe/Berlin
END:VTIMEZONE
BEGIN:VEVENT
UID:692be845dada2457b0d69b7b
CATEGORIES:Einsatzmannschaft
CREATED:20251219T114548
SUMMARY:Übung-Absturzsicherung
LOCATION:Gerätehaus Michelau i.OFr.
DESCRIPTION;ENCODING=QUOTED-PRINTABLE:\nVerantwortlich: Bayer Christopher
DTSTAMP:20260421T145038Z
DTSTART;TZID=Europe/Berlin:20260424T183000
DTEND;TZID=Europe/Berlin:20260424T210000
SEQUENCE:0
TRANSP:OPAQUE
END:VEVENT
END:VCALENDAR