BEGIN:VCALENDAR
VERSION:2.0
PRODID:-//jEvents 2.0 for Joomla//EN
CALSCALE:GREGORIAN
METHOD:PUBLISH
BEGIN:VTIMEZONE
TZID:Europe/Berlin
END:VTIMEZONE
BEGIN:VEVENT
UID:692be81ab7e2c3284d7b74b3
CATEGORIES:Einsatzmannschaft
CREATED:20251219T114548
SUMMARY:Übung-Absturzsicherung
LOCATION:Gerätehaus Michelau i.OFr.
DESCRIPTION;ENCODING=QUOTED-PRINTABLE:<br/>Verantwortlich: Bayer Christopher
DTSTAMP:20260421T110731Z
DTSTART;TZID=Europe/Berlin:20260213T183000
DTEND;TZID=Europe/Berlin:20260213T210000
SEQUENCE:0
TRANSP:OPAQUE
END:VEVENT
END:VCALENDAR