BEGIN:VCALENDAR
VERSION:2.0
PRODID:-//jEvents 2.0 for Joomla//EN
CALSCALE:GREGORIAN
METHOD:PUBLISH
BEGIN:VTIMEZONE
TZID:Europe/Berlin
BEGIN:STANDARD
DTSTART:20221030T020000
RDATE:20230326T030000
TZOFFSETFROM:+0200
TZOFFSETTO:+0100
TZNAME:Europe/Berlin CET
END:STANDARD
BEGIN:STANDARD
DTSTART:20231029T020000
RDATE:20240331T030000
TZOFFSETFROM:+0200
TZOFFSETTO:+0100
TZNAME:Europe/Berlin CET
END:STANDARD
BEGIN:STANDARD
DTSTART:20241027T020000
RDATE:20250330T030000
TZOFFSETFROM:+0200
TZOFFSETTO:+0100
TZNAME:Europe/Berlin CET
END:STANDARD
BEGIN:DAYLIGHT
DTSTART:20220813T173000
RDATE:20221030T020000
TZOFFSETFROM:+0100
TZOFFSETTO:+0200
TZNAME:Europe/Berlin CEST
END:DAYLIGHT
BEGIN:DAYLIGHT
DTSTART:20230326T030000
RDATE:20231029T020000
TZOFFSETFROM:+0100
TZOFFSETTO:+0200
TZNAME:Europe/Berlin CEST
END:DAYLIGHT
BEGIN:DAYLIGHT
DTSTART:20240331T030000
RDATE:20241027T020000
TZOFFSETFROM:+0100
TZOFFSETTO:+0200
TZNAME:Europe/Berlin CEST
END:DAYLIGHT
END:VTIMEZONE
BEGIN:VEVENT
UID:75i66c9kc4pj2bb5c8rj6b9k61im4bb169gj6bb6ckr62dr264rmcdb5c4@google.com
CATEGORIES:Einsatzmannschaft
CREATED:20230810T150510
SUMMARY:Absturzsicherung
LOCATION:Freiwillige Feuerwehr Lichtenfels, Konrad-Adenauer-Straße 6, 96215 Lichtenf
 els, Deutschland
DESCRIPTION;ENCODING=QUOTED-PRINTABLE:
DTSTAMP:20260422T015936Z
DTSTART;TZID=Europe/Berlin:20230814T173000
DTEND;TZID=Europe/Berlin:20230814T200000
SEQUENCE:0
TRANSP:OPAQUE
END:VEVENT
END:VCALENDAR