BEGIN:VCALENDAR
VERSION:2.0
PRODID:-//jEvents 2.0 for Joomla//EN
CALSCALE:GREGORIAN
METHOD:PUBLISH
BEGIN:VTIMEZONE
TZID:Europe/Berlin
BEGIN:STANDARD
DTSTART:20221030T020000
RDATE:20230326T030000
TZOFFSETFROM:+0200
TZOFFSETTO:+0100
TZNAME:Europe/Berlin CET
END:STANDARD
BEGIN:STANDARD
DTSTART:20231029T020000
RDATE:20240331T030000
TZOFFSETFROM:+0200
TZOFFSETTO:+0100
TZNAME:Europe/Berlin CET
END:STANDARD
BEGIN:STANDARD
DTSTART:20241027T020000
RDATE:20250330T030000
TZOFFSETFROM:+0200
TZOFFSETTO:+0100
TZNAME:Europe/Berlin CET
END:STANDARD
BEGIN:DAYLIGHT
DTSTART:20220508T183000
RDATE:20221030T020000
TZOFFSETFROM:+0100
TZOFFSETTO:+0200
TZNAME:Europe/Berlin CEST
END:DAYLIGHT
BEGIN:DAYLIGHT
DTSTART:20230326T030000
RDATE:20231029T020000
TZOFFSETFROM:+0100
TZOFFSETTO:+0200
TZNAME:Europe/Berlin CEST
END:DAYLIGHT
BEGIN:DAYLIGHT
DTSTART:20240331T030000
RDATE:20241027T020000
TZOFFSETFROM:+0100
TZOFFSETTO:+0200
TZNAME:Europe/Berlin CEST
END:DAYLIGHT
END:VTIMEZONE
BEGIN:VEVENT
UID:60sm2c3570ojgbb3coq68b9kcgp6cb9o71hm4bb16hhmcdhmckrj2db56k@google.com
CATEGORIES:Einsatzmannschaft
CREATED:20230331T221135
SUMMARY:PSNV Gottesdienst
LOCATION:Johanneskirche - Evangelisch-Lutherische Kirchengemeinde Michelau i. Ofr., 
 Kirchpl. 2, 96247 Michelau in Oberfranken, De
DESCRIPTION;ENCODING=QUOTED-PRINTABLE:
DTSTAMP:20260421T175625Z
DTSTART;TZID=Europe/Berlin:20230509T183000
DTEND;TZID=Europe/Berlin:20230509T203000
SEQUENCE:1
TRANSP:OPAQUE
END:VEVENT
END:VCALENDAR